BEGIN:VCALENDAR
VERSION:2.0
PRODID:-//ChamberMaster//Event Calendar 2.0//EN
METHOD:PUBLISH
X-PUBLISHED-TTL:P3D
REFRESH-INTERVAL:P3D
CALSCALE:GREGORIAN
BEGIN:VEVENT
DTSTART:20180414T140000Z
DTEND:20180414T210000Z
X-MICROSOFT-CDO-ALLDAYEVENT:FALSE
SUMMARY:Spring Country Festival
DESCRIPTION:4th annual Spring Festival hosted by Milling Manor. Crafters of all kinds\, Delicious Foods. Raffle for a Smart TV\, Bounce House for the kids and music by LakeGirl Music Productions.
X-ALT-DESC;FMTTYPE=text/html:4th annual Spring Festival hosted by Milling Manor. Crafters of all kinds\, Delicious Foods. Raffle for a Smart TV\, Bounce House for the kids and music by LakeGirl Music Productions.
LOCATION:Downtown Square
UID:e.2378.13611
SEQUENCE:3
DTSTAMP:20260421T155403Z
URL:https://business.daviechamber.com/events/details/spring-country-festival-04-14-2018-13611
END:VEVENT

END:VCALENDAR
