BEGIN:VCALENDAR
VERSION:2.0
PRODID:-//ChamberMaster//Event Calendar 2.0//EN
METHOD:PUBLISH
X-PUBLISHED-TTL:P3D
REFRESH-INTERVAL:P3D
CALSCALE:GREGORIAN
BEGIN:VEVENT
DTSTART:20170429T150000Z
DTEND:20170429T220000Z
X-MICROSOFT-CDO-ALLDAYEVENT:FALSE
SUMMARY:Spring Country Festival
DESCRIPTION:Country Festival Fundraiser for the benefit of the adults served by Milling Manor!  Events to include:\n\n	Musical Entertainment\n	Patsy Cline Impersonator\n	 Games\n	Bouncy Houses\n	Concessions\n	26 various craft vendors\n	Dunking Booth\n	50/50 raffle\n	A mechanical bull\n	MUCH\, MUCH MORE!
X-ALT-DESC;FMTTYPE=text/html:Country Festival Fundraiser for the benefit of the adults served by Milling Manor! &nbsp\;Events to include:\n<ul>\n	<li>Musical Entertainment</li>\n	<li>Patsy Cline Impersonator</li>\n	<li>&#8203\;Games</li>\n	<li>Bouncy&nbsp\;Houses</li>\n	<li>Concessions</li>\n	<li>26 various craft vendors</li>\n	<li>Dunking Booth</li>\n	<li>50/50 raffle</li>\n	<li>A mechanical bull</li>\n	<li>MUCH\, MUCH MORE!</li>\n</ul>\n
LOCATION:Masonic Picnic Grounds Behind Brock Center
UID:e.2378.11300
SEQUENCE:3
DTSTAMP:20260421T081843Z
URL:https://business.daviechamber.com/events/details/spring-country-festival-11300
END:VEVENT

END:VCALENDAR
