BEGIN:VCALENDAR
VERSION:2.0
PRODID:-//ChamberMaster//Event Calendar 2.0//EN
METHOD:PUBLISH
X-PUBLISHED-TTL:P3D
REFRESH-INTERVAL:P3D
CALSCALE:GREGORIAN
BEGIN:VEVENT
DTSTART:20170311T130000Z
DTEND:20170311T190000Z
X-MICROSOFT-CDO-ALLDAYEVENT:FALSE
SUMMARY:Spring Craft Show
DESCRIPTION:The Spring Craft Show will be located at Oak Forest United Methodist Church in Winston-Salem Saturday\, March 11 from 8:00 am to 2:00 pm. There will be many different vendors with various items for sale.\n\n\n\nAll proceeds from table rentals for this event will be donated to The Dragonfly House of Mocksville\, NC.
X-ALT-DESC;FMTTYPE=text/html:The Spring Craft Show will be located at Oak Forest United Methodist Church in Winston-Salem Saturday\, March 11 from 8:00 am to 2:00 pm. There will be many different vendors with various items for sale.<br />\n<br />\n<strong><em>All proceeds from table rentals for this event will be donated to&nbsp\;The Dragonfly House&nbsp\;of Mocksville\, NC.</em></strong>
LOCATION:Oak Forest United Methodist Church 11461 Old US Hwy 52 Winston-Salem\, NC 27107
UID:e.2378.11272
SEQUENCE:3
DTSTAMP:20260422T094524Z
URL:https://business.daviechamber.com/events/details/spring-craft-show-11272
END:VEVENT

END:VCALENDAR
