BEGIN:VCALENDAR
VERSION:2.0
PRODID:-//ChamberMaster//Event Calendar 2.0//EN
METHOD:PUBLISH
X-PUBLISHED-TTL:P3D
REFRESH-INTERVAL:P3D
CALSCALE:GREGORIAN
BEGIN:VEVENT
DTSTART:20230317T220000Z
DTEND:20230318T010000Z
X-MICROSOFT-CDO-ALLDAYEVENT:FALSE
SUMMARY:St. Paddy's Day at Food Freaks!
DESCRIPTION:FOOD SPECIALS\n\nLIVE MUSIC 6-9\n\nCheck back for all the food details!
X-ALT-DESC;FMTTYPE=text/html:<span style="color: rgb(5\, 5\, 5)\; font-family: &quot\;Segoe UI Historic&quot\;\, &quot\;Segoe UI&quot\;\, Helvetica\, Arial\, sans-serif\; font-size: 15px\;">FOOD SPECIALS</span><br style="color: rgb(5\, 5\, 5)\; font-family: &quot\;Segoe UI Historic&quot\;\, &quot\;Segoe UI&quot\;\, Helvetica\, Arial\, sans-serif\; font-size: 15px\;" />\n<span style="color: rgb(5\, 5\, 5)\; font-family: &quot\;Segoe UI Historic&quot\;\, &quot\;Segoe UI&quot\;\, Helvetica\, Arial\, sans-serif\; font-size: 15px\;">LIVE MUSIC 6-9</span><br style="color: rgb(5\, 5\, 5)\; font-family: &quot\;Segoe UI Historic&quot\;\, &quot\;Segoe UI&quot\;\, Helvetica\, Arial\, sans-serif\; font-size: 15px\;" />\n<span style="color: rgb(5\, 5\, 5)\; font-family: &quot\;Segoe UI Historic&quot\;\, &quot\;Segoe UI&quot\;\, Helvetica\, Arial\, sans-serif\; font-size: 15px\;">Check back for all the food details!</span>
LOCATION:Food Freaks Unique Burger Co.
UID:e.2378.22810
SEQUENCE:3
DTSTAMP:20260424T103053Z
URL:https://business.daviechamber.com/events/details/st-paddy-s-day-at-food-freaks-22810
END:VEVENT

END:VCALENDAR
