BEGIN:VCALENDAR
VERSION:2.0
PRODID:-//ChamberMaster//Event Calendar 2.0//EN
METHOD:PUBLISH
X-PUBLISHED-TTL:P3D
REFRESH-INTERVAL:P3D
CALSCALE:GREGORIAN
BEGIN:VEVENT
DTSTART:20230317T220000Z
DTEND:20230318T000000Z
X-MICROSOFT-CDO-ALLDAYEVENT:FALSE
SUMMARY:St. Paddy's Day Mixology
DESCRIPTION:Looking for somewhere to fun to spend St. Patrick's day? As luck would have it\, look no further! Come celebrate St. Paddy's Day at Cognition with a night of rainbow\, green\, and gold drinks\, games\, and fun! We supply the mixer\, you supply the liquor. \n\n\n\nGET TICKETS
X-ALT-DESC;FMTTYPE=text/html:<span style="color: rgb(5\, 5\, 5)\; font-family: &quot\;Segoe UI Historic&quot\;\, &quot\;Segoe UI&quot\;\, Helvetica\, Arial\, sans-serif\; font-size: 15px\;">Looking for somewhere to fun to spend St. Patrick&#39\;s day? As luck would have it\, look no further! Come celebrate St. Paddy&#39\;s Day at Cognition with a night of rainbow\, green\, and gold drinks\, games\, and fun! We supply the mixer\, you supply the liquor.</span><span style="color: rgb(5\, 5\, 5)\; font-family: &quot\;Segoe UI Historic&quot\;\, &quot\;Segoe UI&quot\;\, Helvetica\, Arial\, sans-serif\; font-size: 15px\;">&nbsp\;</span><br />\n<br />\n<u><strong><a href="https://cognitiondavie.ticketing.veevartapp.com/tickets/view/list/st-paddys-mixology?fbclid=IwAR0TWs8sL0-Ej_lzyMdP7bbYNP64LxN2nQBzfe-yM78UCnZHyTzMWWwSQys">GET TICKETS</a></strong></u>&nbsp\;&nbsp\;&nbsp\;&nbsp\;&nbsp\;&nbsp\;&nbsp\;&nbsp\;
LOCATION:Cognition Davie
UID:e.2378.22794
SEQUENCE:3
DTSTAMP:20260424T102812Z
URL:https://business.daviechamber.com/events/details/st-paddy-s-day-mixology-22794
END:VEVENT

END:VCALENDAR
