BEGIN:VCALENDAR
VERSION:2.0
PRODID:-//ChamberMaster//Event Calendar 2.0//EN
METHOD:PUBLISH
X-PUBLISHED-TTL:P3D
REFRESH-INTERVAL:P3D
CALSCALE:GREGORIAN
BEGIN:VEVENT
DTSTART:20230504T223000Z
DTEND:20230505T003000Z
X-MICROSOFT-CDO-ALLDAYEVENT:FALSE
SUMMARY:Star Wars Trivia @ The Station Mocksville w/ Cousins Maine Lobster Food Truck
DESCRIPTION:It's May the 4th\, so we've gotta say May The 4th Be With You (try saying it out loud) for Star Wars Day! It also gives YOU a great opportunity to come dressed as your favorite Jedi (or Sith if you choose that route instead!)\n\nWe'll take the opportunity to have 3 of our 5 rounds themed to everyone's favorite sci-fi adventure saga that night! Pictures\, videos\, songs - you know the drill!\n\nCousins Maine Lobster Food Truck will be attending with their famous fresh lobster rolls and other menu items in addition to our cold beverages!\n\nBring your band of Rebels or Imperial scum along with you to join in on the fun that night!
X-ALT-DESC;FMTTYPE=text/html:<div class="xdj266r x11i5rnm xat24cr x1mh8g0r x1vvkbs" style="margin: 0px\; overflow-wrap: break-word\; font-family: &quot\;Segoe UI Historic&quot\;\, &quot\;Segoe UI&quot\;\, Helvetica\, Arial\, sans-serif\; color: rgb(5\, 5\, 5)\; font-size: 15px\;"><span style="font-size:16px\;"><span style="font-family:tahoma\;">It&#39\;s May the 4th\, so we&#39\;ve gotta say May The 4th Be With You (try saying it out loud) for Star Wars Day! It also gives YOU a great opportunity to come dressed as your favorite Jedi (or Sith if you choose that route instead!)</span></span></div>\n\n<div class="x11i5rnm xat24cr x1mh8g0r x1vvkbs xtlvy1s" style="margin: 0.5em 0px 0px\; overflow-wrap: break-word\; font-family: &quot\;Segoe UI Historic&quot\;\, &quot\;Segoe UI&quot\;\, Helvetica\, Arial\, sans-serif\; color: rgb(5\, 5\, 5)\; font-size: 15px\;"><span style="font-size:16px\;"><span style="font-family:tahoma\;">We&#39\;ll take the opportunity to have 3 of our 5 rounds themed to everyone&#39\;s favorite sci-fi adventure saga that night! Pictures\, videos\, songs - you know the drill!</span></span></div>\n\n<div class="x11i5rnm xat24cr x1mh8g0r x1vvkbs xtlvy1s" style="margin: 0.5em 0px 0px\; overflow-wrap: break-word\; font-family: &quot\;Segoe UI Historic&quot\;\, &quot\;Segoe UI&quot\;\, Helvetica\, Arial\, sans-serif\; color: rgb(5\, 5\, 5)\; font-size: 15px\;"><span style="font-size:16px\;"><span style="font-family:tahoma\;">Cousins Maine Lobster Food Truck will be attending with their famous fresh lobster rolls and other menu items in addition to our cold beverages!</span></span></div>\n\n<div class="x11i5rnm xat24cr x1mh8g0r x1vvkbs xtlvy1s" style="margin: 0.5em 0px 0px\; overflow-wrap: break-word\; font-family: &quot\;Segoe UI Historic&quot\;\, &quot\;Segoe UI&quot\;\, Helvetica\, Arial\, sans-serif\; color: rgb(5\, 5\, 5)\; font-size: 15px\;"><span style="font-size:16px\;"><span style="font-family:tahoma\;">Bring your band of Rebels or Imperial scum along with you to join in on the fun that night!</span></span></div>\n
LOCATION:The Station
UID:e.2378.22904
SEQUENCE:3
DTSTAMP:20260424T132358Z
URL:https://business.daviechamber.com/events/details/star-wars-trivia-the-station-mocksville-w-cousins-maine-lobster-food-truck-22904
END:VEVENT

END:VCALENDAR
