BEGIN:VCALENDAR
VERSION:2.0
PRODID:-//ChamberMaster//Event Calendar 2.0//EN
METHOD:PUBLISH
X-PUBLISHED-TTL:P3D
REFRESH-INTERVAL:P3D
CALSCALE:GREGORIAN
BEGIN:VEVENT
DTSTART:20150623T130000Z
DTEND:20150623T150000Z
X-MICROSOFT-CDO-ALLDAYEVENT:FALSE
SUMMARY:Starting a Business in Davie County
DESCRIPTION:Starting a Business in Davie County\n\nAre you ready for a new venture?\n\nLearn how to turn your talents into a business.\n\nDavie County may be the perfect place for your new business!\n\nTuesday\, June 23\, 9 am - 11 am\n\nDavie Education Center\n\n120 Kinderton Blvd.\, Bermuda Run\n\n\n\nWalk-ins are welcome but pre-registration is encouraged.\n\nFor more details and registration please visit www.davidsonccc.edu/sbc\n\nMartha Larson\, Director DCCC Small Business Center 336-224-4557.
X-ALT-DESC;FMTTYPE=text/html:<strong>Starting a Business in Davie County</strong><br />\nAre you ready for a new venture?<br />\nLearn how to turn your talents into a business.<br />\nDavie County may be the perfect place for your new business!<br />\n<strong>Tuesday\, June 23\, 9 am - 11 am</strong><br />\n<strong>Davie Education Center<br />\n120 Kinderton Blvd.\, Bermuda Run</strong><br />\n<br />\nWalk-ins are welcome but pre-registration is encouraged.<br />\nFor more details and registration please visit www.davidsonccc.edu/sbc<br />\nMartha Larson\, Director DCCC Small Business Center 336-224-4557.
LOCATION:Davie Education Center 120 Kinderton Blvd Bermuda Run\, NC 27006
UID:e.2378.856
SEQUENCE:3
DTSTAMP:20260422T143256Z
URL:https://business.daviechamber.com/events/details/starting-a-business-in-davie-county-06-23-2015-856
END:VEVENT

END:VCALENDAR
