BEGIN:VCALENDAR
VERSION:2.0
PRODID:-//ChamberMaster//Event Calendar 2.0//EN
METHOD:PUBLISH
X-PUBLISHED-TTL:P3D
REFRESH-INTERVAL:P3D
CALSCALE:GREGORIAN
BEGIN:VEVENT
DTSTART:20230710T130000Z
DTEND:20230713T160000Z
X-MICROSOFT-CDO-ALLDAYEVENT:FALSE
SUMMARY:STEAM Around the World
DESCRIPTION:Don't have time to vacation this summer? No problem! Come to Cognition's STEAM Around the World Summer Camp to visit 4 different countries in just one week! Each day we'll focus on a different place in the world with rich history\, amazing architecture\, and legendary artists. We will conduct STEAM challenges and experiments based around that place and come to appreciate the people in history behind it that made it the destination it is today. We invite rising 2nd to rising 4th graders to join us from 9:00am-12:00pm for our morning session of camp. Rising 5th graders to rising 8th graders are invited to join us from 1:00pm-4:00pm for our afternoon session of camp.
X-ALT-DESC;FMTTYPE=text/html:Don&rsquo\;t have time to vacation this summer? No problem! Come to Cognition&rsquo\;s STEAM Around the World Summer Camp to visit 4 different countries in just one week! Each day we&rsquo\;ll focus on a different place in the world with rich history\, amazing architecture\, and legendary artists. We will conduct STEAM challenges and experiments based around that place and come to appreciate the people in history behind it that made it the destination it is today. We invite rising 2nd to rising 4th graders to join us from 9:00am-12:00pm for our morning session of camp. Rising 5th graders to rising 8th graders are invited to join us from 1:00pm-4:00pm for our afternoon session of camp.
LOCATION:
UID:e.2378.23044
SEQUENCE:3
DTSTAMP:20260425T214818Z
URL:https://business.daviechamber.com/events/details/steam-around-the-world-23044
END:VEVENT

END:VCALENDAR
