BEGIN:VCALENDAR
VERSION:2.0
PRODID:-//ChamberMaster//Event Calendar 2.0//EN
METHOD:PUBLISH
X-PUBLISHED-TTL:P3D
REFRESH-INTERVAL:P3D
CALSCALE:GREGORIAN
BEGIN:VEVENT
DTSTART:20241012T013000Z
DTEND:20241012T023000Z
X-MICROSOFT-CDO-ALLDAYEVENT:FALSE
SUMMARY:Steam Story
DESCRIPTION:Friday\, October 11th at 9:30am\n\nBest for 3-5 year olds\n\nCalling all curious kiddos aged 3-5 for a fun Storytime! Enjoy a captivating story followed by a hands-on STEAM activity to ignite their imaginations. Each family also gets to take home the storybook for even more reading. After the activity\, let them play upstairs\, for a full morning of storytelling\, creativity\, and play!
X-ALT-DESC;FMTTYPE=text/html:<div class="xdj266r x11i5rnm xat24cr x1mh8g0r x1vvkbs" style="margin: 0px\; overflow-wrap: break-word\; font-family: &quot\;Segoe UI Historic&quot\;\, &quot\;Segoe UI&quot\;\, Helvetica\, Arial\, sans-serif\; color: rgb(5\, 5\, 5)\; font-size: 15px\;">Friday\, October 11th at 9:30am<br class="html-br" />\nBest for 3-5 year olds</div>\n\n<div class="x11i5rnm xat24cr x1mh8g0r x1vvkbs xtlvy1s" style="margin: 0.5em 0px 0px\; overflow-wrap: break-word\; font-family: &quot\;Segoe UI Historic&quot\;\, &quot\;Segoe UI&quot\;\, Helvetica\, Arial\, sans-serif\; color: rgb(5\, 5\, 5)\; font-size: 15px\;">Calling all curious kiddos aged 3-5 for a fun Storytime! Enjoy a captivating story followed by a hands-on STEAM activity to ignite their imaginations. Each family also gets to take home the storybook for even more reading. After the activity\, let them play upstairs\, for a full morning of storytelling\, creativity\, and play!&nbsp\;&nbsp\;</div>\n
LOCATION:Cognition Davie
UID:e.2378.24770
SEQUENCE:3
DTSTAMP:20260420T071105Z
URL:https://business.daviechamber.com/events/details/steam-story-24770
END:VEVENT

END:VCALENDAR
