BEGIN:VCALENDAR
VERSION:2.0
PRODID:-//ChamberMaster//Event Calendar 2.0//EN
METHOD:PUBLISH
X-PUBLISHED-TTL:P3D
REFRESH-INTERVAL:P3D
CALSCALE:GREGORIAN
BEGIN:VEVENT
DTSTART:20230811T133000Z
DTEND:20230811T153000Z
X-MICROSOFT-CDO-ALLDAYEVENT:FALSE
SUMMARY:STEAM Storytime
DESCRIPTION:Calling 3-5 year old kiddos to come to Storytime and read a book with a related STEAM activity to follow. You even get to take the book home with you! Then play upstairs for the remainder of the time!
X-ALT-DESC;FMTTYPE=text/html:<span style="color:#333333\;"><span style="font-size:18px\;"><span style="font-family:tahoma\;">Calling 3-5 year old kiddos to come to Storytime and read a book with a related STEAM activity to follow. You even get to take the book home with you! Then play upstairs for the remainder of the time!</span></span></span>
LOCATION:
UID:e.2378.23164
SEQUENCE:3
DTSTAMP:20260425T201447Z
URL:https://business.daviechamber.com/events/details/steam-storytime-23164
END:VEVENT

END:VCALENDAR
