BEGIN:VCALENDAR
VERSION:2.0
PRODID:-//ChamberMaster//Event Calendar 2.0//EN
METHOD:PUBLISH
X-PUBLISHED-TTL:P3D
REFRESH-INTERVAL:P3D
CALSCALE:GREGORIAN
BEGIN:VEVENT
DTSTART:20151023T190000Z
DTEND:20151024T020000Z
X-MICROSOFT-CDO-ALLDAYEVENT:FALSE
SUMMARY:Subway Pinebrook PTO Night
DESCRIPTION:Visit any of the 3 Subway locations in Mocksville and tell the cashier that you are there to support the Pinebrook PTO and 10% of the sales receipt will be donated to the PTO.
X-ALT-DESC;FMTTYPE=text/html:Visit any of the 3 Subway locations in Mocksville and tell the cashier that you are there to support the Pinebrook PTO and 10% of the sales receipt will be donated to the PTO.
LOCATION:The 3 Locations are as follows: 1. 261 Cooper Creek Dr. (Inside of Wal-Mart) 2. 1423 Yadkinville Road\, Suite A (In front of Lowe's) 3. 1360 US-601 #2 (Next to the High School)
UID:e.2378.4096
SEQUENCE:3
DTSTAMP:20260423T110844Z
URL:https://business.daviechamber.com/events/details/subway-pinebrook-pto-night-10-23-2015-4096
END:VEVENT

END:VCALENDAR
