BEGIN:VCALENDAR
VERSION:2.0
PRODID:-//ChamberMaster//Event Calendar 2.0//EN
METHOD:PUBLISH
X-PUBLISHED-TTL:P3D
REFRESH-INTERVAL:P3D
CALSCALE:GREGORIAN
BEGIN:VEVENT
DTSTART:20160523T123000Z
DTEND:20160523T170000Z
X-MICROSOFT-CDO-ALLDAYEVENT:FALSE
SUMMARY:Succeeding Together: Multicultural Business Women's Conference
DESCRIPTION:Success is looking for you. Learn how to build your business\, discover resources\, and extend your boundaries at this half-day conference. Hear from small business experts\, entrepreneurs\, and branding gurus on how to realize your business goals.\n\nLight Breakfast will be served.
X-ALT-DESC;FMTTYPE=text/html:Success is looking for you. Learn how to build your business\, discover resources\, and extend your boundaries at this half-day conference. Hear from small business experts\, entrepreneurs\, and branding gurus on how to realize your business goals.<br />\nLight Breakfast will be served.
LOCATION:Rittling Conference Center 297 DCC Road\, Thomasville
UID:e.2378.5162
SEQUENCE:3
DTSTAMP:20260421T210511Z
URL:https://business.daviechamber.com/events/details/succeeding-together-multicultural-business-women-s-conference-05-23-2016-5162
END:VEVENT

END:VCALENDAR
