BEGIN:VCALENDAR
VERSION:2.0
PRODID:-//ChamberMaster//Event Calendar 2.0//EN
METHOD:PUBLISH
X-PUBLISHED-TTL:P3D
REFRESH-INTERVAL:P3D
CALSCALE:GREGORIAN
BEGIN:VEVENT
DTSTART:20230728T213000Z
DTEND:20230729T000000Z
X-MICROSOFT-CDO-ALLDAYEVENT:FALSE
SUMMARY:Summer Concert & Vendor Market
DESCRIPTION:Join Bermuda Run Country Club for an evening of family fun! Enjoy a musical performance by The Plaids and shopping from over 25 vendors. Food\, cocktails\, beer and wine are available for purchase.\n\nThis complimentary event is open to the community. Family & friends are welcome! No registration is required.
X-ALT-DESC;FMTTYPE=text/html:<div class="xdj266r x11i5rnm xat24cr x1mh8g0r x1vvkbs" style="margin: 0px\; overflow-wrap: break-word\; font-family: &quot\;Segoe UI Historic&quot\;\, &quot\;Segoe UI&quot\;\, Helvetica\, Arial\, sans-serif\; color: rgb(5\, 5\, 5)\; font-size: 15px\;"><span style="font-size:18px\;"><span style="color:#333333\;">Join Bermuda Run Country Club&nbsp\;for an evening of family fun! Enjoy a musical performance by The Plaids and shopping from over 25 vendors. Food\, cocktails\, beer and wine are available for purchase.</span></span></div>\n\n<div class="x11i5rnm xat24cr x1mh8g0r x1vvkbs xtlvy1s" style="margin: 0.5em 0px 0px\; overflow-wrap: break-word\; font-family: &quot\;Segoe UI Historic&quot\;\, &quot\;Segoe UI&quot\;\, Helvetica\, Arial\, sans-serif\; color: rgb(5\, 5\, 5)\; font-size: 15px\;"><span style="font-size:18px\;"><span style="color:#333333\;">This complimentary event is open to the community. Family &amp\; friends are welcome! No registration is required.&nbsp\;</span></span></div>\n
LOCATION:Bermuda Run Country Club
UID:e.2378.23067
SEQUENCE:3
DTSTAMP:20260425T215012Z
URL:https://business.daviechamber.com/events/details/summer-concert-vendor-market-23067
END:VEVENT

END:VCALENDAR
