BEGIN:VCALENDAR
VERSION:2.0
PRODID:-//ChamberMaster//Event Calendar 2.0//EN
METHOD:PUBLISH
X-PUBLISHED-TTL:P3D
REFRESH-INTERVAL:P3D
CALSCALE:GREGORIAN
BEGIN:VEVENT
DTSTART:20230718T220000Z
DTEND:20230719T000000Z
X-MICROSOFT-CDO-ALLDAYEVENT:FALSE
SUMMARY:Summer Earring Making
DESCRIPTION:Wishing you had some more summer accessories\, need something to gift to a friend? Come make summer earrings with us at Cognition! Just bring a friend and a beverage to enjoy while you learn how to make 3 different styles of polymer clay earrings. Open to 21+ only.\n\nREGISTER
X-ALT-DESC;FMTTYPE=text/html:<span style="font-size:16px\;"><span style="font-family:tahoma\;"><span style="color:#000000\;">Wishing you had some more summer accessories\, need something to gift to a friend? Come make summer earrings with us at Cognition! Just bring a friend and a beverage to enjoy while you learn how to make 3 different styles of polymer clay earrings. Open to 21+ only.</span><br />\n<strong><a href="https://cognitiondavie.ticketing.veevartapp.com/tickets/view/list/wine-and-diy-summer-earring-making?fbclid=IwAR3wRH7KM1ZEqD0m60t1HEsQD6D2i-7xpFzRoHjoiw3TIriWo4zT0zyhSVY">REGISTER</a></strong></span></span>
LOCATION:Cognition Davie
UID:e.2378.23087
SEQUENCE:3
DTSTAMP:20260425T213928Z
URL:https://business.daviechamber.com/events/details/summer-earring-making-23087
END:VEVENT

END:VCALENDAR
