BEGIN:VCALENDAR
VERSION:2.0
PRODID:-//ChamberMaster//Event Calendar 2.0//EN
METHOD:PUBLISH
X-PUBLISHED-TTL:P3D
REFRESH-INTERVAL:P3D
CALSCALE:GREGORIAN
BEGIN:VEVENT
DTSTART:20160126T220000Z
DTEND:20160127T000000Z
X-MICROSOFT-CDO-ALLDAYEVENT:FALSE
SUMMARY:Super Night of Networking @ the Winston Salem Dash
DESCRIPTION:BB&T Ballpark is hosting its first Super Night of Networking on Tuesday\, January 26. Please join us in the Founders Club from 5-7 p.m. for your chance to establish new business connections with Dash season-ticket holders and local Chamber of Commerce members.\n\nComplementary popcorn\, chips\, soda\, and a beer voucher will be provided\, while a cash bar will be available throughout the event. If you would like to attend\, please RSVP by Tuesday\, January 18. Be sure to bring plenty of business cards!\n\n\n\n********  Guests will park in the Winston-Salem Dash lots. Please park along the lot facing Business 40.  When that lot fills up\, overflow parking will be in the Founders Club Parking Lot behind the outfield.  Guests will enter the stadium through the VIP Entrance located behind home plate.  There will be a check-in desk at the VIP Entrance. Guests will check into and then proceed to the third floor.
X-ALT-DESC;FMTTYPE=text/html:<p>BB&amp\;T Ballpark is hosting its first Super Night of Networking on <strong><b>Tuesday\, January 26</b></strong>. Please join us in the Founders Club from 5-7 p.m. for your chance to establish new business connections with Dash season-ticket holders and local Chamber of Commerce members.</p>\n\n<p>Complementary popcorn\, chips\, soda\, and a beer voucher will be provided\, while a cash bar will be available throughout the event. If you would like to attend\, please <strong><b>RSVP</b></strong> by <strong><b>Tuesday\,</b></strong> <strong><b>January 18</b></strong>. Be sure to bring plenty of business cards!<br />\n<br />\n********&nbsp\;<span style="color:#FF0000\;"><em> <span style="font-family: arial\,sans-serif\;"><span style="font-size: 10pt\;">Guests will park in the Winston-Salem Dash lots. Please park along the lot facing Business 40.&nbsp\; When that lot fills up\, overflow parking will be in the Founders Club Parking Lot behind the outfield.&nbsp\; Guests will enter the stadium through the VIP Entrance located behind home plate.&nbsp\; There will be a check-in desk at the VIP Entrance. Guests will check into and then proceed to the third floor.&nbsp\; </span></span></em></span></p>\n
LOCATION:Winston Salem Dash 951 Ballpark Way Winston Salem\, NC 27101
UID:e.2378.4242
SEQUENCE:3
DTSTAMP:20260422T044219Z
URL:https://business.daviechamber.com/events/details/super-night-of-networking-the-winston-salem-dash-01-26-2016-4242
END:VEVENT

END:VCALENDAR
