BEGIN:VCALENDAR
VERSION:2.0
PRODID:-//ChamberMaster//Event Calendar 2.0//EN
METHOD:PUBLISH
X-PUBLISHED-TTL:P3D
REFRESH-INTERVAL:P3D
CALSCALE:GREGORIAN
BEGIN:VEVENT
DTSTART:20250517T120000Z
DTEND:20250517T180000Z
X-MICROSOFT-CDO-ALLDAYEVENT:FALSE
SUMMARY:Swing for a Promise Golf Tournament
DESCRIPTION:Join us on Saturday\, May 17th at Colin Creek Golf Club for a Golf Tournament benefitting Family Promise of Davie County. Registration opens at 8am and the scramble starts at 9am. We will have light breakfast items at registration\, snacks\, beverages\, and lunch. All funds raised support the work we do to address the issue of family homelessness holistically. We provide prevention services before families reach crisis\, shelter and case management if they become homeless\, and stabilization programs once they have secured housing to ensure they remain independent.
X-ALT-DESC;FMTTYPE=text/html:Join us on Saturday\, May 17th at Colin Creek Golf Club for a Golf Tournament benefitting Family Promise of Davie County. Registration opens at 8am and the scramble starts at 9am. We will have light breakfast items at registration\, snacks\, beverages\, and lunch. All funds raised support the work we do to address the issue of family homelessness holistically. We provide prevention services before families reach crisis\, shelter and case management if they become homeless\, and stabilization programs once they have secured housing to ensure they remain independent.
LOCATION:Colin Creek Golf Club
UID:e.2378.25357
SEQUENCE:3
DTSTAMP:20260426T005601Z
URL:https://business.daviechamber.com/events/details/swing-for-a-promise-golf-tournament-05-17-2025-25357
END:VEVENT

END:VCALENDAR
