BEGIN:VCALENDAR
VERSION:2.0
PRODID:-//ChamberMaster//Event Calendar 2.0//EN
METHOD:PUBLISH
X-PUBLISHED-TTL:P3D
REFRESH-INTERVAL:P3D
CALSCALE:GREGORIAN
BEGIN:VEVENT
DTSTART:20230810T210000Z
DTEND:20230811T000000Z
X-MICROSOFT-CDO-ALLDAYEVENT:FALSE
SUMMARY:Taco El Amigo Food Truck
DESCRIPTION:Enjoy delicious tacos\, burritos\, quesadillas\, and more while you try your hand at some music trivia at The Station!
X-ALT-DESC;FMTTYPE=text/html:<span style="font-family: tahoma\; font-size: 18px\;">Enjoy delicious tacos\, burritos\, quesadillas\, and more while you try your hand at some music trivia at The Station!</span>
LOCATION:The Station
UID:e.2378.23142
SEQUENCE:3
DTSTAMP:20260425T215145Z
URL:https://business.daviechamber.com/events/details/taco-el-amigo-food-truck-23142
END:VEVENT

END:VCALENDAR
