BEGIN:VCALENDAR
VERSION:2.0
PRODID:-//ChamberMaster//Event Calendar 2.0//EN
METHOD:PUBLISH
X-PUBLISHED-TTL:P3D
REFRESH-INTERVAL:P3D
CALSCALE:GREGORIAN
BEGIN:VEVENT
DTSTART:20230817T210000Z
DTEND:20230818T000000Z
X-MICROSOFT-CDO-ALLDAYEVENT:FALSE
SUMMARY:Taco El Amigo Food Truck
DESCRIPTION:Come on out for some delicious tacos\, burritos\, quesadillas\, and more!
X-ALT-DESC;FMTTYPE=text/html:<span style="font-family: tahoma\; font-size: 18px\;">Come on out for some delicious tacos\, burritos\, quesadillas\, and more!</span>
LOCATION:The Station
UID:e.2378.23159
SEQUENCE:3
DTSTAMP:20260425T215146Z
URL:https://business.daviechamber.com/events/details/taco-el-amigo-food-truck-23159
END:VEVENT

END:VCALENDAR
