BEGIN:VCALENDAR
VERSION:2.0
PRODID:-//ChamberMaster//Event Calendar 2.0//EN
METHOD:PUBLISH
X-PUBLISHED-TTL:P3D
REFRESH-INTERVAL:P3D
CALSCALE:GREGORIAN
BEGIN:VEVENT
DTSTART:20230812T200000Z
DTEND:20230812T220000Z
X-MICROSOFT-CDO-ALLDAYEVENT:FALSE
SUMMARY:Tap Takeover
DESCRIPTION:Grab your friends and enjoy some pints at Station!
X-ALT-DESC;FMTTYPE=text/html:<span style="color: rgb(0\, 0\, 0)\; font-family: tahoma\; font-size: 16px\;">Grab your friends and enjoy some pints at Station!</span>
LOCATION:The Station
UID:e.2378.23157
SEQUENCE:3
DTSTAMP:20260425T201425Z
URL:https://business.daviechamber.com/events/details/tap-takeover-23157
END:VEVENT

END:VCALENDAR
