BEGIN:VCALENDAR
VERSION:2.0
PRODID:-//ChamberMaster//Event Calendar 2.0//EN
METHOD:PUBLISH
X-PUBLISHED-TTL:P3D
REFRESH-INTERVAL:P3D
CALSCALE:GREGORIAN
BEGIN:VEVENT
DTSTART:20161219T154500Z
DTEND:20161219T163000Z
X-MICROSOFT-CDO-ALLDAYEVENT:FALSE
SUMMARY:Tax Exemption Seminar
DESCRIPTION:Did you know that some older adults are eligible for reductions in their tax bills? Come get all the information you need to see if you might qualify. Brian Myers\, Davie County Tax Administrator will be our speaker.
X-ALT-DESC;FMTTYPE=text/html:Did you know that some older adults are eligible for reductions in their tax bills? Come get all the information you need to see if you might qualify. Brian Myers\, Davie County Tax Administrator will be our speaker.
LOCATION:Bobby H. Knight Senior Services Building 278 Meroney Street Mocksville\, NC 27028
UID:e.2378.9453
SEQUENCE:3
DTSTAMP:20260421T115437Z
URL:https://business.daviechamber.com/events/details/tax-exemption-seminar-9453
END:VEVENT

END:VCALENDAR
