BEGIN:VCALENDAR
VERSION:2.0
PRODID:-//ChamberMaster//Event Calendar 2.0//EN
METHOD:PUBLISH
X-PUBLISHED-TTL:P3D
REFRESH-INTERVAL:P3D
CALSCALE:GREGORIAN
BEGIN:VEVENT
DTSTART:20230810T223000Z
DTEND:20230811T013000Z
X-MICROSOFT-CDO-ALLDAYEVENT:FALSE
SUMMARY:Taylor Mason at O'Callahans
DESCRIPTION:Taylor Mason returns to O'Callahans in Mocksville for a fun summer evening on the patio!\n\nTunes from 6:30-9:30PM!\n\nCountry/Singer/Songwriter/Southern Rock/etc.\n\nAs always\, requests are welcomed and tips are appreciated!
X-ALT-DESC;FMTTYPE=text/html:<div class="xdj266r x11i5rnm xat24cr x1mh8g0r x1vvkbs" style="margin: 0px\; overflow-wrap: break-word\; font-family: &quot\;Segoe UI Historic&quot\;\, &quot\;Segoe UI&quot\;\, Helvetica\, Arial\, sans-serif\; color: rgb(5\, 5\, 5)\; font-size: 15px\;"><span style="font-size:18px\;"><span style="font-family:tahoma\;"><span style="color:#333333\;">Taylor Mason returns to O&#39\;Callahans in Mocksville for a fun summer evening on the patio!</span></span></span></div>\n\n<div class="x11i5rnm xat24cr x1mh8g0r x1vvkbs xtlvy1s" style="margin: 0.5em 0px 0px\; overflow-wrap: break-word\; font-family: &quot\;Segoe UI Historic&quot\;\, &quot\;Segoe UI&quot\;\, Helvetica\, Arial\, sans-serif\; color: rgb(5\, 5\, 5)\; font-size: 15px\;"><span style="font-size:18px\;"><span style="font-family:tahoma\;"><span style="color:#333333\;">Tunes from 6:30-9:30PM!</span></span></span></div>\n\n<div class="x11i5rnm xat24cr x1mh8g0r x1vvkbs xtlvy1s" style="margin: 0.5em 0px 0px\; overflow-wrap: break-word\; font-family: &quot\;Segoe UI Historic&quot\;\, &quot\;Segoe UI&quot\;\, Helvetica\, Arial\, sans-serif\; color: rgb(5\, 5\, 5)\; font-size: 15px\;"><span style="font-size:18px\;"><span style="font-family:tahoma\;"><span style="color:#333333\;">Country/Singer/Songwriter/Southern Rock/etc.</span></span></span></div>\n\n<div class="x11i5rnm xat24cr x1mh8g0r x1vvkbs xtlvy1s" style="margin: 0.5em 0px 0px\; overflow-wrap: break-word\; font-family: &quot\;Segoe UI Historic&quot\;\, &quot\;Segoe UI&quot\;\, Helvetica\, Arial\, sans-serif\; color: rgb(5\, 5\, 5)\; font-size: 15px\;"><span style="font-size:18px\;"><span style="font-family:tahoma\;"><span style="color:#333333\;">As always\, requests are welcomed and tips are appreciated!</span></span></span></div>\n
LOCATION:O'Callahans
UID:e.2378.23145
SEQUENCE:3
DTSTAMP:20260425T201603Z
URL:https://business.daviechamber.com/events/details/taylor-mason-at-o-callahans-23145
END:VEVENT

END:VCALENDAR
