BEGIN:VCALENDAR
VERSION:2.0
PRODID:-//ChamberMaster//Event Calendar 2.0//EN
METHOD:PUBLISH
X-PUBLISHED-TTL:P3D
REFRESH-INTERVAL:P3D
CALSCALE:GREGORIAN
BEGIN:VEVENT
DTSTART:20230728T230000Z
DTEND:20230729T020000Z
X-MICROSOFT-CDO-ALLDAYEVENT:FALSE
SUMMARY:Taylor Mason LIVE
DESCRIPTION:Enjoy live music Friday night from Taylor Mason\, a 25-year-old Country Music singer/songwriter from Wallburg\, NC. You don't want to miss this very talented singer!
X-ALT-DESC;FMTTYPE=text/html:<div class="xdj266r x11i5rnm xat24cr x1mh8g0r x1vvkbs" style="margin: 0px\; overflow-wrap: break-word\; font-family: inherit\;">\n<div class="x9f619 x1n2onr6 x1ja2u2z x78zum5 x2lah0s x1qughib x1qjc9v5 xozqiw3 x1q0g3np x1pi30zi x1swvt13 xyamay9 xykv574 xbmpl8g x4cne27 xifccgj" color:="" font-size:="" segoe="" style="z-index: 0\; position: relative\; padding-right: 16px\; flex-flow: row nowrap\; align-items: stretch\; justify-content: space-between\; padding-left: 16px\; flex-shrink: 0\; margin: -6px\; display: flex\; box-sizing: border-box\; padding-top: 16px\; font-family: " ui="">\n<div class="x9f619 x1n2onr6 x1ja2u2z x78zum5 xdt5ytf x193iq5w xeuugli x1r8uery x1iyjqo2 xs83m0k xsyo7zv x16hj40l x10b6aqq x1yrsyyn" style="padding: 6px\; max-width: 100%\; flex: 1 1 0px\; z-index: 0\; position: relative\; display: flex\; box-sizing: border-box\; flex-direction: column\; min-width: 0px\; font-family: inherit\;">\n<div class="x2b8uid xdppsyt x1l90r2v" style="border-bottom: 1px solid var(--divider)\; padding-bottom: 16px\; font-family: inherit\;"><span class="x193iq5w xeuugli x13faqbe x1vvkbs x1xmvt09 x1lliihq x1s928wv xhkezso x1gmr53x x1cpjm7i x1fgarty x1943h6x xudqn12 x3x7a5m x6prxxf xvq8zen xo1l8bm xzsf02u" dir="auto" style="word-break: break-word\; max-width: 100%\; display: block\; overflow-wrap: break-word\; font-family: inherit\; font-size: 0.9375rem\; min-width: 0px\; line-height: 1.3333\;"><span style="font-size:18px\;"><span style="font-family:tahoma\;"><span style="color:#333333\;">Enjoy live music Friday night from Taylor Mason\, a 25-year-old Country Music singer/songwriter from Wallburg\, NC. You don&#39\;t want to miss this very talented singer!</span></span></span></span></div>\n</div>\n</div>\n\n<div class="x9f619 x1n2onr6 x1ja2u2z x78zum5 x2lah0s x1qughib x1qjc9v5 xozqiw3 x1q0g3np x1pi30zi x1swvt13 xyamay9 xykv574 xbmpl8g x4cne27 xifccgj" color:="" font-size:="" segoe="" style="z-index: 0\; position: relative\; padding-right: 16px\; flex-flow: row nowrap\; align-items: stretch\; justify-content: space-between\; padding-left: 16px\; flex-shrink: 0\; margin: -6px\; display: flex\; box-sizing: border-box\; padding-top: 16px\; font-family: " ui="">\n<div class="x9f619 x1n2onr6 x1ja2u2z x78zum5 xdt5ytf x193iq5w xeuugli x1r8uery x1iyjqo2 xs83m0k xsyo7zv x16hj40l x10b6aqq x1yrsyyn" style="padding: 6px\; max-width: 100%\; flex: 1 1 0px\; z-index: 0\; position: relative\; display: flex\; box-sizing: border-box\; flex-direction: column\; min-width: 0px\; font-family: inherit\;">\n<div class="x9f619 x1n2onr6 x1ja2u2z x78zum5 x2lah0s x1nhvcw1 x1qjc9v5 xozqiw3 x1q0g3np xexx8yu xykv574 xbmpl8g x4cne27 xifccgj" style="z-index: 0\; position: relative\; justify-content: flex-start\; flex-flow: row nowrap\; align-items: stretch\; flex-shrink: 0\; margin: -6px\; display: flex\; box-sizing: border-box\; padding-top: 0px\; font-family: inherit\;">&nbsp\;</div>\n\n<ul style="list-style-type: none\; margin: 0px\; padding-right: 0px\; padding-left: 0px\;">\n</ul>\n</div>\n</div>\n</div>\n\n<div class="x78zum5 x1a02dak" color:="" font-size:="" segoe="" style="flex-wrap: wrap\; display: flex\; margin-top: 16px\; font-family: " ui="">\n<div style="font-family: inherit\;">\n<div class="x6s0dn4 x1qhmfi1 x1lcm9me x1yr5g0i xrt01vj x10y3i5r x9f619 x78zum5 xl56j7k x12nagc x1gslohp x1y1aw1k x1sxyh0 xwib8y2 xurb0ha" style="border-radius: 4px\; margin-bottom: 4px\; margin-top: 4px\; background-color: var(--secondary-button-background)\; padding: 8px\; align-items: center\; display: flex\; box-sizing: border-box\; justify-content: center\; font-family: inherit\;">&nbsp\;</div>\n</div>\n</div>\n
LOCATION:The Station
UID:e.2378.23107
SEQUENCE:3
DTSTAMP:20260425T214700Z
URL:https://business.daviechamber.com/events/details/taylor-mason-live-23107
END:VEVENT

END:VCALENDAR
