BEGIN:VCALENDAR
VERSION:2.0
PRODID:-//ChamberMaster//Event Calendar 2.0//EN
METHOD:PUBLISH
X-PUBLISHED-TTL:P3D
REFRESH-INTERVAL:P3D
CALSCALE:GREGORIAN
BEGIN:VEVENT
DTSTART:20230512T230000Z
DTEND:20230513T010000Z
X-MICROSOFT-CDO-ALLDAYEVENT:FALSE
SUMMARY:Teen Night: Black Light Dodgeball
DESCRIPTION:"Black Light Dodgeball" is a cross between the great sport of "Dodgeball" that we know and love and a dance party. This night includes a video giant screen for music videos and a timer to keeps the games moving forward. Black Light cannons that blast the entire room giving it a glowing affect and black light tape and dodgeballs that give the games a cosmic party feel!\n\nFee: $10 per person\n\nDay/Time: May 12 | 7:00 - 9:00 p.m.\n\nAges: 11-16\n\nLocation: Davie County Community Park - Gym\n\n\n\nTICKETS
X-ALT-DESC;FMTTYPE=text/html:<div class="xdj266r x11i5rnm xat24cr x1mh8g0r x1vvkbs" style="margin: 0px\; overflow-wrap: break-word\; font-family: &quot\;Segoe UI Historic&quot\;\, &quot\;Segoe UI&quot\;\, Helvetica\, Arial\, sans-serif\; color: rgb(5\, 5\, 5)\; font-size: 15px\;"><span style="font-size:16px\;"><span style="font-family:tahoma\;">&ldquo\;Black Light Dodgeball&rdquo\; is a cross between the great sport of &ldquo\;Dodgeball&rdquo\; that we know and love and a dance party. This night includes a video giant screen for music videos and a timer to keeps the games moving forward. Black Light cannons that blast the entire room giving it a glowing affect and black light tape and dodgeballs that give the games a cosmic party feel!</span></span></div>\n\n<div class="x11i5rnm xat24cr x1mh8g0r x1vvkbs xtlvy1s" style="margin: 0.5em 0px 0px\; overflow-wrap: break-word\; font-family: &quot\;Segoe UI Historic&quot\;\, &quot\;Segoe UI&quot\;\, Helvetica\, Arial\, sans-serif\; color: rgb(5\, 5\, 5)\; font-size: 15px\;"><span style="font-size:16px\;"><span style="font-family:tahoma\;">Fee: $10 per person<br />\nDay/Time: May 12 | 7:00 - 9:00 p.m.<br />\nAges: 11-16<br />\nLocation: Davie County Community Park - Gym<br />\n<br />\n<u><strong><a href="https://anc.apm.activecommunities.com/dcrpteam/activity/search/detail/2857?onlineSiteId=0&amp\;from_original_cui=true&amp\;fbclid=IwAR3hHE_edGD4HTTbFaX9VDtn5NP7LcV3afEvw8Zi3utq81FjwdLrWhOLu_U">TICKETS</a></strong></u></span></span></div>\n
LOCATION:Davie County Recreation & Parks
UID:e.2378.22933
SEQUENCE:3
DTSTAMP:20260424T130511Z
URL:https://business.daviechamber.com/events/details/teen-night-black-light-dodgeball-22933
END:VEVENT

END:VCALENDAR
