BEGIN:VCALENDAR
VERSION:2.0
PRODID:-//ChamberMaster//Event Calendar 2.0//EN
METHOD:PUBLISH
X-PUBLISHED-TTL:P3D
REFRESH-INTERVAL:P3D
CALSCALE:GREGORIAN
BEGIN:VEVENT
DTSTART:20230812T003000Z
DTEND:20230812T023000Z
X-MICROSOFT-CDO-ALLDAYEVENT:FALSE
SUMMARY:Teen Night: Glow Splash Party
DESCRIPTION:We are having a teens-only (ages 11-16) glow party at the Davie County Community Park Splashpad! Join us for music\, snacks\, neon glow activities\, and two hours at the Splashpad with your friends!\n\nTickets are online now until August 4th!\n\nThe event will be held on Friday night\, August 11th\, from 8:30-10:30 p.m. at the Davie County Community Park Splashpad. Pre-registration is required\, NO ON-SITE SALE!\n\nDress to get WET! \n\n\n\nREGISTER
X-ALT-DESC;FMTTYPE=text/html:<div class="xdj266r x11i5rnm xat24cr x1mh8g0r x1vvkbs" style="margin: 0px\; overflow-wrap: break-word\; font-family: &quot\;Segoe UI Historic&quot\;\, &quot\;Segoe UI&quot\;\, Helvetica\, Arial\, sans-serif\; color: rgb(5\, 5\, 5)\; font-size: 15px\;"><span style="font-size:18px\;"><span style="font-family:tahoma\;"><span style="color:#333333\;">We are having a teens-only (ages 11-16) glow party at the Davie County Community Park Splashpad! Join us for music\, snacks\, neon glow activities\, and two hours at the Splashpad with your friends!</span></span></span></div>\n\n<div class="x11i5rnm xat24cr x1mh8g0r x1vvkbs xtlvy1s" style="margin: 0.5em 0px 0px\; overflow-wrap: break-word\; font-family: &quot\;Segoe UI Historic&quot\;\, &quot\;Segoe UI&quot\;\, Helvetica\, Arial\, sans-serif\; color: rgb(5\, 5\, 5)\; font-size: 15px\;"><span style="font-size:18px\;"><span style="font-family:tahoma\;"><span style="color:#333333\;">Tickets are online now until August 4th!<br />\nThe event will be held on Friday night\, August 11th\, from 8:30-10:30 p.m. at the Davie County Community Park Splashpad. Pre-registration is required\, NO ON-SITE SALE!</span></span></span></div>\n\n<div class="x11i5rnm xat24cr x1mh8g0r x1vvkbs xtlvy1s" style="margin: 0.5em 0px 0px\; overflow-wrap: break-word\; font-family: &quot\;Segoe UI Historic&quot\;\, &quot\;Segoe UI&quot\;\, Helvetica\, Arial\, sans-serif\; color: rgb(5\, 5\, 5)\; font-size: 15px\;"><span style="font-size:18px\;"><span style="font-family:tahoma\;"><span style="color:#333333\;">Dress to get WET!&nbsp\;<br />\n<br />\n<a href="https://anc.apm.activecommunities.com/dcrpteam/activity/search/detail/3148?onlineSiteId=0&amp\;from_original_cui=true&amp\;fbclid=IwAR2hgRwMR1YnC5rpEEgk1_DNzme1H2pU9BZezjeDrAkbduAhgzb6sm3h32s">REGISTER</a></span></span></span></div>\n
LOCATION:Davie County Community Park
UID:e.2378.23150
SEQUENCE:3
DTSTAMP:20260425T214511Z
URL:https://business.daviechamber.com/events/details/teen-night-glow-splash-party-23150
END:VEVENT

END:VCALENDAR
