BEGIN:VCALENDAR
VERSION:2.0
PRODID:-//ChamberMaster//Event Calendar 2.0//EN
METHOD:PUBLISH
X-PUBLISHED-TTL:P3D
REFRESH-INTERVAL:P3D
CALSCALE:GREGORIAN
BEGIN:VEVENT
DTSTART:20160217T140000Z
DTEND:20160217T180000Z
X-MICROSOFT-CDO-ALLDAYEVENT:FALSE
SUMMARY:The Business Women's Sales Summit
DESCRIPTION:This diverse program will give you the opportunity to hear 2 sales experts\, experienced in helping small businesses and the self-employed thrive. The two guest speakers are: Jason Owens and Angie Locke.
X-ALT-DESC;FMTTYPE=text/html:This diverse program will give you the opportunity to hear 2 sales experts\, experienced in helping small businesses and the self-employed thrive. The two guest speakers are: Jason Owens and Angie Locke.
LOCATION:The Granary at WinMock 168 E. Kinderton Way\, Bermuda Run
UID:e.2378.4544
SEQUENCE:3
DTSTAMP:20260422T013305Z
URL:https://business.daviechamber.com/events/details/the-business-women-s-sales-summit-02-17-2016-4544
END:VEVENT

END:VCALENDAR
