BEGIN:VCALENDAR
VERSION:2.0
PRODID:-//ChamberMaster//Event Calendar 2.0//EN
METHOD:PUBLISH
X-PUBLISHED-TTL:P3D
REFRESH-INTERVAL:P3D
CALSCALE:GREGORIAN
BEGIN:VEVENT
DTSTART:20230805T140000Z
DTEND:20230805T180000Z
X-MICROSOFT-CDO-ALLDAYEVENT:FALSE
SUMMARY:The Great Bullhole Duck Race
DESCRIPTION:Join us for a GREAT day at the Bullhole Duck Race and Family Festival on August 5th.  Get your tickets now:\n\n  "Lonely Duck(1)" - $10 | "Firequaker (5)" - $40  | "Flock (15)" - $100\n\n\n\nTickets available at Davie Chamber\, Cooleemee Town Hall\, Davie County Community Park\n\n\n\nCash Prizes:\n\n1st Place - $300\n\n2nd Place - $200\n\n3rd Place - $100\n\n\n\n****RACE Starts at 1 pm
X-ALT-DESC;FMTTYPE=text/html:Join us for a GREAT day at the Bullhole Duck Race and Family Festival on August 5th.&nbsp\; Get your tickets now:<br />\n&nbsp\; &quot\;Lonely Duck(1)&quot\; - $10 | &quot\;Firequaker (5)&quot\; - $40&nbsp\; | &quot\;Flock (15)&quot\; - $100<br />\n<br />\nTickets available at Davie Chamber\, Cooleemee Town Hall\, Davie County Community Park<br />\n<br />\nCash Prizes:<br />\n1st Place - $300<br />\n2nd Place - $200<br />\n3rd Place - $100<br />\n<br />\n****RACE Starts at 1 pm<br />\n&nbsp\;
LOCATION:
UID:e.2378.23019
SEQUENCE:3
DTSTAMP:20260425T201741Z
URL:https://business.daviechamber.com/events/details/the-great-bullhole-duck-race-08-05-2023-23019
END:VEVENT

END:VCALENDAR
