BEGIN:VCALENDAR
VERSION:2.0
PRODID:-//ChamberMaster//Event Calendar 2.0//EN
METHOD:PUBLISH
X-PUBLISHED-TTL:P3D
REFRESH-INTERVAL:P3D
CALSCALE:GREGORIAN
BEGIN:VEVENT
DTSTART:20240726T220000Z
DTEND:20240727T010000Z
X-MICROSOFT-CDO-ALLDAYEVENT:FALSE
SUMMARY:The Happy Ones | La Caretta Mocksville
DESCRIPTION:Playing Rock & Country Tunes!
X-ALT-DESC;FMTTYPE=text/html:<span style="color:#000000\;"><span style="font-size:18px\;"><span style="font-family:tahoma\;">Playing Rock &amp\; Country Tunes!</span></span></span>
LOCATION:La Caretta
UID:e.2378.24531
SEQUENCE:3
DTSTAMP:20260421T055723Z
URL:https://business.daviechamber.com/events/details/the-happy-ones-la-caretta-mocksville-24531
END:VEVENT

END:VCALENDAR
