BEGIN:VCALENDAR
VERSION:2.0
PRODID:-//ChamberMaster//Event Calendar 2.0//EN
METHOD:PUBLISH
X-PUBLISHED-TTL:P3D
REFRESH-INTERVAL:P3D
CALSCALE:GREGORIAN
BEGIN:VEVENT
DTSTART:20260208T000000Z
DTEND:20260208T020000Z
X-MICROSOFT-CDO-ALLDAYEVENT:FALSE
SUMMARY:The Legacy Motown Review | Davie County Arts Council
DESCRIPTION:The Legacy Motown Review\n\nFebruary 7\, 2026\n\n7:00PM\n\nSince touring with Bill Pinckney's Original Drifters\, as music director and pianist\, Band Leader Stan Stigall has dreamed of starting a tribute to the legendary groups that he grew up listening to! Since the passing of his friend\, Bill Pinckney\, this desire has grown stronger...thus the inception of THE LEGACY!!! Paying homage to the music that molded multiple generations\, and gave Detroit a claim to fame other than cars\, THE LEGACY takes you back to the days of The Temptations\, The Four Tops\, The Drifters\, The Jacksons\, Earth Wind & Fire\, and so many more legendary icons! Featuring talented performers that dance and sing\, plus an amazing six-piece horn band\, you will be transported back in time to one of the most influential periods in American Musical History!! Soul music is not just our past...it's The Legacy! The Legacy Motown Revue was founded July 4\, 2010\, and is owned and operated by Much Moore Entertainment.
X-ALT-DESC;FMTTYPE=text/html:<div>The Legacy Motown Review</div>\n\n<div>February 7\, 2026</div>\n\n<div>7:00PM</div>\n\n<div>Since touring with Bill Pinckney&#39\;s Original Drifters\, as music director and pianist\, Band Leader Stan Stigall has dreamed of starting a tribute to the legendary groups that he grew up listening to! Since the passing of his friend\, Bill Pinckney\, this desire has grown stronger...thus the inception of THE LEGACY!!! Paying homage to the music that molded multiple generations\, and gave Detroit a claim to fame other than cars\, THE LEGACY takes you back to the days of The Temptations\, The Four Tops\, The Drifters\, The Jacksons\, Earth Wind &amp\; Fire\, and so many more legendary icons! Featuring talented performers that dance and sing\, plus an amazing six-piece horn band\, you will be transported back in time to one of the most influential periods in American Musical History!! Soul music is not just our past...it&#39\;s The Legacy! The Legacy Motown Revue was founded July 4\, 2010\, and is owned and operated by Much Moore Entertainment.</div>\n
LOCATION:Brock Performing Arts Center .
UID:e.2378.29078
SEQUENCE:3
DTSTAMP:20260424T134049Z
URL:https://business.daviechamber.com/events/details/the-legacy-motown-review-davie-county-arts-council-02-07-2026-29078
END:VEVENT

END:VCALENDAR
