BEGIN:VCALENDAR
VERSION:2.0
PRODID:-//ChamberMaster//Event Calendar 2.0//EN
METHOD:PUBLISH
X-PUBLISHED-TTL:P3D
REFRESH-INTERVAL:P3D
CALSCALE:GREGORIAN
BEGIN:VEVENT
DTSTART:20230727T220000Z
DTEND:20230728T010000Z
X-MICROSOFT-CDO-ALLDAYEVENT:FALSE
SUMMARY:The Lyrical Pirate at Tanglewood Pizza Company
DESCRIPTION:There's a fun time to be had at the Tanglewood Pizza Company\, hoisting some libations and devouring wonderful fare.\n\nAs always\, the TPC crew will take great care of you\, and the Lyrical Pirate will steel you away for a while. So come on out\, see some friends\, and make some new ones. Can't wait to see ya\, huzzah!
X-ALT-DESC;FMTTYPE=text/html:<span style="font-size:18px\;"><span style="font-family:tahoma\;"><span style="color:#333333\;">There&#39\;s a fun time to be had at the Tanglewood Pizza Company\, hoisting some libations and devouring wonderful fare.<br style="color: rgb(5\, 5\, 5)\; font-family: &quot\;Segoe UI Historic&quot\;\, &quot\;Segoe UI&quot\;\, Helvetica\, Arial\, sans-serif\; font-size: 15px\;" />\nAs always\, the TPC crew will take great care of you\, and the Lyrical Pirate will steel you away for a while. So come on out\, see some friends\, and make some new ones. Can&#39\;t wait to see ya\, huzzah!</span></span></span>
LOCATION:Tanglewood Pizza Company
UID:e.2378.23127
SEQUENCE:3
DTSTAMP:20260425T230536Z
URL:https://business.daviechamber.com/events/details/the-lyrical-pirate-at-tanglewood-pizza-company-23127
END:VEVENT

END:VCALENDAR
