BEGIN:VCALENDAR
VERSION:2.0
PRODID:-//ChamberMaster//Event Calendar 2.0//EN
METHOD:PUBLISH
X-PUBLISHED-TTL:P3D
REFRESH-INTERVAL:P3D
CALSCALE:GREGORIAN
BEGIN:VEVENT
DTSTART:20251011T140000Z
DTEND:20251012T000000Z
X-MICROSOFT-CDO-ALLDAYEVENT:FALSE
SUMMARY:The Oaks Festival | Town of Mocksville
DESCRIPTION:Your family can enjoy a full day of free fun during Mocksville's annual Oaks Festival (formerly the Autumn Equinox Festival). The festival is held in historic downtown Mocksville on the second Saturday in October from 10 a.m. to 8:00 p.m. There is something for everyone: handcrafted goods\, art\, and food vendors\, lots of free kids' activities\, and live concerts all day.\n\nCrafts\, food\, and the kids' area are set up along Main Street and run down Depot Street leading to the entertainment area and outdoor stage.
X-ALT-DESC;FMTTYPE=text/html:<p style="box-sizing: border-box\; margin: 0px 0px 20px\; color: rgb(85\, 85\, 85)\; font-family: Montserrat\, Arial\, Helvetica\, sans-serif\; font-size: 16px\; letter-spacing: 0.5px\;"><span style="font-size:18px\;"><span style="font-family:tahoma\;">Your family can enjoy a full day of free fun during Mocksville&rsquo\;s annual Oaks Festival (formerly the Autumn Equinox Festival). The festival is held in historic downtown Mocksville on the second Saturday in October from 10 a.m. to 8:00 p.m. There is something for everyone: handcrafted goods\, art\, and food vendors\, lots of free kids&rsquo\; activities\, and live concerts all day.</span></span></p>\n\n<p style="box-sizing: border-box\; margin: 0px 0px 20px\; color: rgb(85\, 85\, 85)\; font-family: Montserrat\, Arial\, Helvetica\, sans-serif\; font-size: 16px\; letter-spacing: 0.5px\;"><span style="font-size:18px\;"><span style="font-family:tahoma\;">Crafts\, food\, and the kids&rsquo\; area are set up along Main Street and run down Depot Street leading to the entertainment area and outdoor stage.</span></span></p>\n
LOCATION:Downtown Mocksville
UID:e.2378.28340
SEQUENCE:3
DTSTAMP:20260425T221332Z
URL:https://business.daviechamber.com/events/details/the-oaks-festival-town-of-mocksville-28340
END:VEVENT

END:VCALENDAR
