BEGIN:VCALENDAR
VERSION:2.0
PRODID:-//ChamberMaster//Event Calendar 2.0//EN
METHOD:PUBLISH
X-PUBLISHED-TTL:P3D
REFRESH-INTERVAL:P3D
CALSCALE:GREGORIAN
BEGIN:VEVENT
DTSTART:20160615T210000Z
DTEND:20160619T000000Z
X-MICROSOFT-CDO-ALLDAYEVENT:FALSE
SUMMARY:The Refinery - Summer Camp
DESCRIPTION:"Impact University is proud to announce that we are hosting our first summer camp for high school aged students (11th - 12th Grade) called The Refinery. June 15th - June 18th\, ImpactU is creating an environment focused on training future leaders to hear the voice of God and to discover their purpose. Students will have the opportunity to learn about worship\, leadership\, prayer\, and the Bible. Visit impactunivrefinery.com for more information and to register! There are only 50 spots available\, so register ASAP!! You do not want to miss this opportunity!"
X-ALT-DESC;FMTTYPE=text/html:<br />\n&quot\;Impact University is proud to announce that we are hosting our first summer camp for high school aged students (11th - 12th Grade) called The Refinery. June 15th - June 18th\, ImpactU is creating an environment focused on training future leaders to hear the voice of God and to discover their purpose. Students will have the opportunity to learn about worship\, leadership\, prayer\, and the Bible. Visit impactunivrefinery.com for more information and to register! There are only 50 spots available\, so register ASAP!! You do not want to miss this opportunity!&quot\;
LOCATION:Agape Faith Church 2101 Lewisville-Clemmons Road\, Clemmons
UID:e.2378.5156
SEQUENCE:3
DTSTAMP:20260421T193509Z
URL:https://business.daviechamber.com/events/details/the-refinery-summer-camp-06-15-2016-5156
END:VEVENT

END:VCALENDAR
