BEGIN:VCALENDAR
VERSION:2.0
PRODID:-//ChamberMaster//Event Calendar 2.0//EN
METHOD:PUBLISH
X-PUBLISHED-TTL:P3D
REFRESH-INTERVAL:P3D
CALSCALE:GREGORIAN
BEGIN:VEVENT
DTSTART:20160517T143000Z
DTEND:20160517T153000Z
X-MICROSOFT-CDO-ALLDAYEVENT:FALSE
SUMMARY:The Small Business Summit
DESCRIPTION:Main Street businesses need an infusion of capital to start up or to expand. A panel of representatives from 4 institutions will discuss various ways to access capital and what lenders want from loan applicants. This is a wonderful opportunity to have 4 lenders in the room. Come with questions and take advantage of their expertise. This is a part of a half day event.
X-ALT-DESC;FMTTYPE=text/html:<br />\nMain Street businesses need an infusion of capital to start up or to expand. A panel of representatives from 4 institutions will discuss various ways to access capital and what lenders want from loan applicants. This is a wonderful opportunity to have 4 lenders in the room. Come with questions and take advantage of their expertise. This is a part of a half day event.
LOCATION:Davidson CCC Small Business Center 297 DCC Road\, Thomasville
UID:e.2378.5173
SEQUENCE:3
DTSTAMP:20260421T205355Z
URL:https://business.daviechamber.com/events/details/the-small-business-summit-05-17-2016-5173
END:VEVENT

END:VCALENDAR
