BEGIN:VCALENDAR
VERSION:2.0
PRODID:-//ChamberMaster//Event Calendar 2.0//EN
METHOD:PUBLISH
X-PUBLISHED-TTL:P3D
REFRESH-INTERVAL:P3D
CALSCALE:GREGORIAN
BEGIN:VEVENT
DTSTART:20230712T223000Z
DTEND:20230713T010000Z
X-MICROSOFT-CDO-ALLDAYEVENT:FALSE
SUMMARY:The Station Music Bingo
DESCRIPTION:Music bingo every 2nd and 4th Wednesday of the month!\n\nCome out and check out The Station.\n\nPrizes including gift cards!\n\nSuggestions for categories and themes are always welcome.
X-ALT-DESC;FMTTYPE=text/html:<div class="xdj266r x11i5rnm xat24cr x1mh8g0r x1vvkbs" style="margin: 0px\; overflow-wrap: break-word\; font-family: &quot\;Segoe UI Historic&quot\;\, &quot\;Segoe UI&quot\;\, Helvetica\, Arial\, sans-serif\; color: rgb(5\, 5\, 5)\; font-size: 15px\;"><span style="font-size:16px\;"><span style="font-family:tahoma\;"><span style="color:#000000\;">Music bingo every 2nd and 4th Wednesday of the month!</span></span></span></div>\n\n<div class="x11i5rnm xat24cr x1mh8g0r x1vvkbs xtlvy1s" style="margin: 0.5em 0px 0px\; overflow-wrap: break-word\; font-family: &quot\;Segoe UI Historic&quot\;\, &quot\;Segoe UI&quot\;\, Helvetica\, Arial\, sans-serif\; color: rgb(5\, 5\, 5)\; font-size: 15px\;"><span style="font-size:16px\;"><span style="font-family:tahoma\;"><span style="color:#000000\;">Come out and check out The Station.</span></span></span></div>\n\n<div class="x11i5rnm xat24cr x1mh8g0r x1vvkbs xtlvy1s" style="margin: 0.5em 0px 0px\; overflow-wrap: break-word\; font-family: &quot\;Segoe UI Historic&quot\;\, &quot\;Segoe UI&quot\;\, Helvetica\, Arial\, sans-serif\; color: rgb(5\, 5\, 5)\; font-size: 15px\;"><span style="font-size:16px\;"><span style="font-family:tahoma\;"><span style="color:#000000\;">Prizes including gift cards!</span></span></span></div>\n\n<div class="x11i5rnm xat24cr x1mh8g0r x1vvkbs xtlvy1s" style="margin: 0.5em 0px 0px\; overflow-wrap: break-word\; font-family: &quot\;Segoe UI Historic&quot\;\, &quot\;Segoe UI&quot\;\, Helvetica\, Arial\, sans-serif\; color: rgb(5\, 5\, 5)\; font-size: 15px\;"><span style="font-size:16px\;"><span style="font-family:tahoma\;"><span style="color:#000000\;">Suggestions for categories and themes are always welcome.</span></span></span></div>\n
LOCATION:The Station
UID:e.2378.23055
SEQUENCE:3
DTSTAMP:20260425T214837Z
URL:https://business.daviechamber.com/events/details/the-station-music-bingo-23055
END:VEVENT

END:VCALENDAR
