BEGIN:VCALENDAR
VERSION:2.0
PRODID:-//ChamberMaster//Event Calendar 2.0//EN
METHOD:PUBLISH
X-PUBLISHED-TTL:P3D
REFRESH-INTERVAL:P3D
CALSCALE:GREGORIAN
BEGIN:VEVENT
DTSTART:20230527T230000Z
DTEND:20230528T020000Z
X-MICROSOFT-CDO-ALLDAYEVENT:FALSE
SUMMARY:The Station - Summer Concert Series
DESCRIPTION:Be sure to join us at The Station in Mocksville\, NC as we perform from 7-10pm! Me and the band are super excited to be a part of this awesome Summer Concert Series where there will not only be live music but fun for everyone and food from "The Dog Wagon" Food Truck! I have heard great things about them and we can't wait to see you there!
X-ALT-DESC;FMTTYPE=text/html:<span style="font-size:16px\;"><span style="font-family:tahoma\;"><span style="color:#000000\;">Be sure to join us at The Station in Mocksville\, NC as we perform from 7-10pm! Me and the band are super excited to be a part of this awesome Summer Concert Series where there will not only be live music but fun for everyone and food from &ldquo\;The Dog Wagon&rdquo\; Food Truck! I have heard great things about them and we can&rsquo\;t wait to see you there!</span></span></span>
LOCATION:The Station
UID:e.2378.22928
SEQUENCE:3
DTSTAMP:20260424T130139Z
URL:https://business.daviechamber.com/events/details/the-station-summer-concert-series-22928
END:VEVENT

END:VCALENDAR
