BEGIN:VCALENDAR
VERSION:2.0
PRODID:-//ChamberMaster//Event Calendar 2.0//EN
METHOD:PUBLISH
X-PUBLISHED-TTL:P3D
REFRESH-INTERVAL:P3D
CALSCALE:GREGORIAN
BEGIN:VEVENT
DTSTART:20170116T170000Z
DTEND:20170116T170000Z
X-MICROSOFT-CDO-ALLDAYEVENT:FALSE
SUMMARY:#theNext56Days
DESCRIPTION:Release Fat | Balance Blood Sugar | Detox the Body | Lessen Inflammation\n\n\n\nInstructor: Wendy Horne
X-ALT-DESC;FMTTYPE=text/html:Release Fat | Balance Blood Sugar | Detox the Body | Lessen Inflammation<br />\n<br />\nInstructor: Wendy Horne
LOCATION:First United Methodist Church 310 N. Main St. Mocksville\, NC 27028
UID:e.2378.11228
SEQUENCE:3
DTSTAMP:20260421T103147Z
URL:https://business.daviechamber.com/events/details/thenext56days-01-16-2017-11228
END:VEVENT

END:VCALENDAR
