BEGIN:VCALENDAR
VERSION:2.0
PRODID:-//ChamberMaster//Event Calendar 2.0//EN
METHOD:PUBLISH
X-PUBLISHED-TTL:P3D
REFRESH-INTERVAL:P3D
CALSCALE:GREGORIAN
BEGIN:VEVENT
DTSTART:20161104T214500Z
DTEND:20161104T214500Z
X-MICROSOFT-CDO-ALLDAYEVENT:FALSE
SUMMARY:#thenext56days
DESCRIPTION:Steve the Food Guy is coming back! Are you ready???\n\nJoin Steve at Macedonia Moravian Church Friday\, November 4 for an introduction class of #thenext56days.\n\n\n\nRelease Fat | Balance Blood Sugar | Detox the Body | Lessen Inflammation\n\n\n\nPlease Note:\n\nFollowing the introduction class\, weekly classes will be held on Monday nights and will begin on Monday\, November 7 at 6:00 PM.
X-ALT-DESC;FMTTYPE=text/html:Steve the Food Guy is coming back! Are you ready???<br />\nJoin Steve at Macedonia Moravian Church Friday\, November 4 for an introduction class of #thenext56days.<br />\n<br />\nRelease Fat | Balance Blood Sugar | Detox the Body | Lessen Inflammation<br />\n<br />\nPlease Note:<br />\nFollowing the introduction class\, weekly classes will be held on Monday nights and will begin on Monday\, November 7 at 6:00 PM.
LOCATION:Macedonia Moravian Church 700 NC Hwy 801 Advance\, NC 27006
UID:e.2378.10412
SEQUENCE:3
DTSTAMP:20260421T142544Z
URL:https://business.daviechamber.com/events/details/thenext56days-10412
END:VEVENT

END:VCALENDAR
