BEGIN:VCALENDAR
VERSION:2.0
PRODID:-//ChamberMaster//Event Calendar 2.0//EN
METHOD:PUBLISH
X-PUBLISHED-TTL:P3D
REFRESH-INTERVAL:P3D
CALSCALE:GREGORIAN
BEGIN:VEVENT
DTSTART:20170326T000000Z
DTEND:20170326T000000Z
X-MICROSOFT-CDO-ALLDAYEVENT:FALSE
SUMMARY:#TheNext56Days Intro Class
DESCRIPTION:Come out to Inspirations Coffee\, Tea & Gifts for this FREE Introduction Class for #TheNext56Days with Steve the Food Guy!\n\n\n\nRelease Fat | Balance Blood Sugar | Detox | Lessen Inflamation
X-ALT-DESC;FMTTYPE=text/html:Come out to Inspirations Coffee\, Tea &amp\; Gifts for this FREE Introduction Class for #TheNext56Days with Steve the Food Guy!<br />\n<br />\nRelease Fat | Balance Blood Sugar | Detox | Lessen Inflamation
LOCATION:Inspirations Coffee\, Tea & Gifts 191 Cooper Creek Dr #114 Mocksville\, NC 27028
UID:e.2378.11532
SEQUENCE:3
DTSTAMP:20260421T102941Z
URL:https://business.daviechamber.com/events/details/thenext56days-intro-class-11532
END:VEVENT

END:VCALENDAR
