BEGIN:VCALENDAR
VERSION:2.0
PRODID:-//ChamberMaster//Event Calendar 2.0//EN
METHOD:PUBLISH
X-PUBLISHED-TTL:P3D
REFRESH-INTERVAL:P3D
CALSCALE:GREGORIAN
BEGIN:VEVENT
DTSTART:20170506T130000Z
DTEND:20170506T170000Z
X-MICROSOFT-CDO-ALLDAYEVENT:FALSE
SUMMARY:Third Annual SkillsUSA Car Show
DESCRIPTION:Please join us for the Third Annual SkillsUSA Car Show at Trailers of the East Coast.  GREAT line up of show cars and a NASCAR transporter on display!  Food and beverages available for purchase.  All proceeds go to the SkillsUSA Auto Shop Program for the Davie County High School.
X-ALT-DESC;FMTTYPE=text/html:Please join us for the Third Annual SkillsUSA&nbsp\;Car Show at Trailers of the East Coast. &nbsp\;GREAT line up of show cars and a NASCAR transporter on display! &nbsp\;Food and beverages available for purchase. &nbsp\;All proceeds go to the SkillsUSA Auto Shop Program for the Davie County High School.&nbsp\;&nbsp\;&nbsp\;&nbsp\;&nbsp\;&nbsp\;&nbsp\;&nbsp\;
LOCATION:Trailers of the East Coast 418 Interstate Drive Mocksville\, NC 270285
UID:e.2378.11693
SEQUENCE:3
DTSTAMP:20260422T072542Z
URL:https://business.daviechamber.com/events/details/third-annual-skillsusa-car-show-11693
END:VEVENT

END:VCALENDAR
