BEGIN:VCALENDAR
VERSION:2.0
PRODID:-//ChamberMaster//Event Calendar 2.0//EN
METHOD:PUBLISH
X-PUBLISHED-TTL:P3D
REFRESH-INTERVAL:P3D
CALSCALE:GREGORIAN
BEGIN:VEVENT
DTSTART:20161104T210000Z
DTEND:20161104T230000Z
X-MICROSOFT-CDO-ALLDAYEVENT:FALSE
SUMMARY:Thirty-One Shopping Event @ The Factory Coffeehouse
DESCRIPTION:You are invited to a Thirty-One Holiday Shopping Event at The Factory Coffhouse Friday\, November 4 from 5:00 PM to 7:00 PM. 20% of sales will go to Davie Domestic Violence Services. Shop online at http://www.mythirtyone.com/lakely under DDVS fundraiser.
X-ALT-DESC;FMTTYPE=text/html:You are invited to a Thirty-One Holiday Shopping Event at The Factory Coffhouse&nbsp\;Friday\, November 4 from 5:00 PM to 7:00 PM. 20% of sales will go to Davie Domestic Violence Services. Shop online at&nbsp\;<a href="http://www.mythirtyone.com/lakely">http://www.mythirtyone.com/lakely</a>&nbsp\;under DDVS fundraiser.
LOCATION:The Factory Coffeehouse 128 N Main St Mocksville\, NC
UID:e.2378.10583
SEQUENCE:3
DTSTAMP:20260422T160133Z
URL:https://business.daviechamber.com/events/details/thirty-one-shopping-event-the-factory-coffeehouse-10583
END:VEVENT

END:VCALENDAR
