BEGIN:VCALENDAR
VERSION:2.0
PRODID:-//ChamberMaster//Event Calendar 2.0//EN
METHOD:PUBLISH
X-PUBLISHED-TTL:P3D
REFRESH-INTERVAL:P3D
CALSCALE:GREGORIAN
BEGIN:VEVENT
DTSTART:20230826T220000Z
DTEND:20230827T010000Z
X-MICROSOFT-CDO-ALLDAYEVENT:FALSE
SUMMARY:TIN CAN ALLEY at TPC
DESCRIPTION:These guys sure know how to put on a show\, so mark your calendars for Saturday\, August 26th and make sure you don't miss all the fun!
X-ALT-DESC;FMTTYPE=text/html:<span style="font-size:18px\;"><span style="font-family:tahoma\;"><span style="color: rgb(5\, 5\, 5)\;">These guys sure know how to put on a show\, so mark your calendars for Saturday\, August 26th and make sure you don&#39\;t miss all the fun!</span></span></span>
LOCATION:Tanglewood Pizza Company
UID:e.2378.23204
SEQUENCE:3
DTSTAMP:20260425T201603Z
URL:https://business.daviechamber.com/events/details/tin-can-alley-at-tpc-23204
END:VEVENT

END:VCALENDAR
