BEGIN:VCALENDAR
VERSION:2.0
PRODID:-//ChamberMaster//Event Calendar 2.0//EN
METHOD:PUBLISH
X-PUBLISHED-TTL:P3D
REFRESH-INTERVAL:P3D
CALSCALE:GREGORIAN
BEGIN:VEVENT
DTSTART:20150912T120000Z
DTEND:20150912T180000Z
X-MICROSOFT-CDO-ALLDAYEVENT:FALSE
SUMMARY:Tour of Farmington
DESCRIPTION:Fully supported cycling event with routes of 13\, 23\, 43 and 63 miles through the beautiful rolling countryside of Davie\, Yadkin and Iredell Counties. Event begins at Farmington Community Center and proceeds support the programs and facilities of FCC. Register at active.com for $35
X-ALT-DESC;FMTTYPE=text/html:Fully supported cycling event with routes of 13\, 23\, 43 and 63 miles through the beautiful rolling countryside of Davie\, Yadkin and Iredell Counties. Event begins at Farmington Community Center and proceeds support the programs and facilities of FCC. Register at active.com for $35
LOCATION:Farmington Community Center 1723 Farmington Road Mocksville\, NC 27028
UID:e.2378.942
SEQUENCE:3
DTSTAMP:20260423T123521Z
URL:https://business.daviechamber.com/events/details/tour-of-farmington-09-12-2015-942
END:VEVENT

END:VCALENDAR
