BEGIN:VCALENDAR
VERSION:2.0
PRODID:-//ChamberMaster//Event Calendar 2.0//EN
METHOD:PUBLISH
X-PUBLISHED-TTL:P3D
REFRESH-INTERVAL:P3D
CALSCALE:GREGORIAN
BEGIN:VEVENT
DTSTART;VALUE=DATE:20150912
DTEND;VALUE=DATE:20150913
TRANSP:TRANSPARENT
X-MICROSOFT-CDO-ALLDAYEVENT:TRUE
SUMMARY:Tour Of Farmington
DESCRIPTION:Tour Of Farmington\n\n6th Annual Bike Event\n\nFree t-shirt for the first 150 registered riders\n\nFood provided by:  Light breakfast\, Coffee & Juice before the event.\n\nLunch at end of the ride.\n\nAll proceeds to benefit the Farmington Community Bicycle/Nature Trail
X-ALT-DESC;FMTTYPE=text/html:Tour Of Farmington<br />\n6th Annual Bike Event<br />\nFree t-shirt for the first 150 registered riders<br />\nFood provided by:&nbsp\; Light breakfast\, Coffee &amp\; Juice before the event.<br />\nLunch at end of the ride.<br />\nAll proceeds to benefit the Farmington Community Bicycle/Nature Trail
LOCATION:Farmington Community Center 1723 Farmington Road\, Mocksville
UID:e.2378.946
SEQUENCE:3
DTSTAMP:20260423T123612Z
URL:https://business.daviechamber.com/events/details/tour-of-farmington-09-12-2015-946
END:VEVENT

END:VCALENDAR
