BEGIN:VCALENDAR
VERSION:2.0
PRODID:-//ChamberMaster//Event Calendar 2.0//EN
METHOD:PUBLISH
X-PUBLISHED-TTL:P3D
REFRESH-INTERVAL:P3D
CALSCALE:GREGORIAN
BEGIN:VEVENT
DTSTART:20230704T140000Z
DTEND:20230704T160000Z
X-MICROSOFT-CDO-ALLDAYEVENT:FALSE
SUMMARY:Town of Cooleemee 4th of July Celebration
DESCRIPTION:The parade will start at the  Cooleemee Elementary School and end at the Zachary House/Town Hall. At the conclusion of the parade hot dogs and drinks will be sold\, Free watermelon and ice pops\, Slip & Slide for all ages till 12 pm\n\n\n\nTo be in the parade just to the school around 9 am to get lined up accordingly.  If you have any questions contact town hall@336.284.2141 or athies@cooleemee.org.
X-ALT-DESC;FMTTYPE=text/html:The parade will start at the&nbsp\; Cooleemee Elementary School and end at the Zachary House/Town Hall. At the conclusion of the parade hot dogs and drinks will be sold\, Free watermelon and ice pops\, Slip &amp\; Slide for all ages till 12 pm<br />\n<br />\nTo be in the parade just to the school around 9 am to get lined up accordingly.&nbsp\; If you have any questions contact town hall@336.284.2141 or athies@cooleemee.org.<br />\n&nbsp\;
LOCATION:
UID:e.2378.23020
SEQUENCE:3
DTSTAMP:20260425T215240Z
URL:https://business.daviechamber.com/events/details/town-of-cooleemee-4th-of-july-celebration-23020
END:VEVENT

END:VCALENDAR
