BEGIN:VCALENDAR
VERSION:2.0
PRODID:-//ChamberMaster//Event Calendar 2.0//EN
METHOD:PUBLISH
X-PUBLISHED-TTL:P3D
REFRESH-INTERVAL:P3D
CALSCALE:GREGORIAN
BEGIN:VEVENT
DTSTART:20230717T130000Z
DTEND:20230720T160000Z
X-MICROSOFT-CDO-ALLDAYEVENT:FALSE
SUMMARY:Travel Through Time
DESCRIPTION:Join us July 17th-20th for Week Four of Camp Cognition! Camp Fee: $100 Per Camper Tired of living in the year 2023?\n\n\n\nHop into Cognition's time machine during our Travel Through Time Summer Camp! Each day you walk through our doors you will be transported into a different period in time! You could end up hiding from dinosaurs\, dancing with flappers\, or creating tools with cavemen! All you will know for sure\, is that each day will be an adventure. We invite rising 2nd to rising 4th graders to join us from 9:00am-12:00pm for our morning session of camp. Rising 5th graders to rising 8th graders are invited to join us from 1:00pm-4:00pm for our afternoon session of camp.
X-ALT-DESC;FMTTYPE=text/html:Join us July 17th-20th for Week Four of Camp Cognition! Camp Fee: $100 Per Camper Tired of living in the year 2023?<br />\n<br />\nHop into Cognition&rsquo\;s time machine during our Travel Through Time Summer Camp! Each day you walk through our doors you will be transported into a different period in time! You could end up hiding from dinosaurs\, dancing with flappers\, or creating tools with cavemen! All you will know for sure\, is that each day will be an adventure. We invite rising 2nd to rising 4th graders to join us from 9:00am-12:00pm for our morning session of camp. Rising 5th graders to rising 8th graders are invited to join us from 1:00pm-4:00pm for our afternoon session of camp.
LOCATION:
UID:e.2378.23048
SEQUENCE:3
DTSTAMP:20260425T214634Z
URL:https://business.daviechamber.com/events/details/travel-through-time-23048
END:VEVENT

END:VCALENDAR
