BEGIN:VCALENDAR
VERSION:2.0
PRODID:-//ChamberMaster//Event Calendar 2.0//EN
METHOD:PUBLISH
X-PUBLISHED-TTL:P3D
REFRESH-INTERVAL:P3D
CALSCALE:GREGORIAN
BEGIN:VEVENT
DTSTART:20170330T220000Z
DTEND:20170331T010000Z
X-MICROSOFT-CDO-ALLDAYEVENT:FALSE
SUMMARY:Triad BioNight 2017
DESCRIPTION:Triad BioNight is the marquee event for the Piedmont Triad region's biotechnology community led by the Advisory Committee for Biotechnology in the Piedmont Triad and the Piedmont Triad Office of the N.C. Biotechnology Center. David King\, CEO of LabCorp\, is our keynote speaker. This event attracts several hundred leaders from academia\, industry\, and government from the region and across the state and features awards to celebrate biotechnology leadership in the region.
X-ALT-DESC;FMTTYPE=text/html:Triad BioNight is the marquee event for the Piedmont Triad region&rsquo\;s biotechnology community led by the Advisory Committee for Biotechnology in the Piedmont Triad and the Piedmont Triad Office of the N.C. Biotechnology Center. David King\, CEO of LabCorp\, is our keynote speaker. This event attracts several hundred leaders from academia\, industry\, and government from the region and across the state and features awards to celebrate biotechnology leadership in the region.
LOCATION:Sheraton Greensboro Four Seasons Hotel 3121 W Gate City Blvd Greensboro\, NC 27407
UID:e.2378.11515
SEQUENCE:3
DTSTAMP:20260421T102941Z
URL:https://business.daviechamber.com/events/details/triad-bionight-2017-11515
END:VEVENT

END:VCALENDAR
