BEGIN:VCALENDAR
VERSION:2.0
PRODID:-//ChamberMaster//Event Calendar 2.0//EN
METHOD:PUBLISH
X-PUBLISHED-TTL:P3D
REFRESH-INTERVAL:P3D
CALSCALE:GREGORIAN
BEGIN:VEVENT
DTSTART:20170407T223000Z
DTEND:20170408T003000Z
X-MICROSOFT-CDO-ALLDAYEVENT:FALSE
SUMMARY:Trivia for Charity
DESCRIPTION:The Davie High STAND Club presents the 2nd annual "Trivia for Charity" fundraiser at First Baptist CORE Center. This year's proceeds benefit the homeless shelter and soup kitchen at Samaritan Ministries\, Winston-Salem. We invite all ages to join us in an night of fun\, food\, and trivia!
X-ALT-DESC;FMTTYPE=text/html:The Davie High STAND Club presents the 2nd annual &quot\;Trivia for Charity&quot\; fundraiser at First Baptist CORE Center. This year&#39\;s proceeds benefit the homeless shelter and soup kitchen at Samaritan Ministries\, Winston-Salem. We invite all ages to join us in an night of fun\, food\, and trivia!
LOCATION:First Baptist CORE Center
UID:e.2378.11463
SEQUENCE:3
DTSTAMP:20260422T090627Z
URL:https://business.daviechamber.com/events/details/trivia-for-charity-11463
END:VEVENT

END:VCALENDAR
