BEGIN:VCALENDAR
VERSION:2.0
PRODID:-//ChamberMaster//Event Calendar 2.0//EN
METHOD:PUBLISH
X-PUBLISHED-TTL:P3D
REFRESH-INTERVAL:P3D
CALSCALE:GREGORIAN
BEGIN:VEVENT
DTSTART:20251125T003000Z
DTEND:20251125T023000Z
X-MICROSOFT-CDO-ALLDAYEVENT:FALSE
SUMMARY:Trivia Night
DESCRIPTION:Grip It Virtual Golf in Bermuda Run is hosting trivia night every Monday from 7:30   9:30 p.m.\n\nBring your friends and exercise your brain for a chance to win!\n\nCash prize for 1st place!
X-ALT-DESC;FMTTYPE=text/html:<p><a href="https://www.facebook.com/profile.php?id=100089268836638">Grip It Virtual Golf</a> in Bermuda Run is hosting trivia night every Monday from 7:30 &ndash\; 9:30 p.m.</p>\n\n<p>Bring your friends and exercise your brain for a chance to win!</p>\n\n<p>Cash prize for 1st place!</p>\n
LOCATION:
UID:e.2378.28995
SEQUENCE:3
DTSTAMP:20260425T232340Z
URL:https://business.daviechamber.com/events/details/trivia-night-28995
END:VEVENT

END:VCALENDAR
