BEGIN:VCALENDAR
VERSION:2.0
PRODID:-//ChamberMaster//Event Calendar 2.0//EN
METHOD:PUBLISH
X-PUBLISHED-TTL:P3D
REFRESH-INTERVAL:P3D
CALSCALE:GREGORIAN
BEGIN:VEVENT
DTSTART:20230720T223000Z
DTEND:20230721T003000Z
X-MICROSOFT-CDO-ALLDAYEVENT:FALSE
SUMMARY:Trivia Night w/Snickety Snacks Food Truck at The Station General Store and Taproom
DESCRIPTION:Our weekly Trivia Nights continue in Mocksville with our regular season theme that's been playing everywhere else! Random Letter of the Week! It's a category where all the answers start with the same letter! This week\, your Random Letter is D! So all the answers in that round will start with D!\n\nOur other themed round this week will be Movies by Character List! For example if I were to say\, Luke\, Han\, Leia\, and Chewbacca\, you'd have to tell me that the movie is Star Wars!!\n\nAll our other categories are random\, so any topic is fair game! Plus we will have one Speed Round where we GIVE YOU the answers and you have to pick out the CORRECT ones!!\n\nIn addition\, we'll have some tasty treats available from Snickety Snacks Food Truck! We also have cool refreshing adult beverages (and otherwise) for purchase in our delightful Tap Room and General Store!\n\nWe hope you and your family can make it out to join us!
X-ALT-DESC;FMTTYPE=text/html:<div class="xdj266r x11i5rnm xat24cr x1mh8g0r x1vvkbs" style="margin: 0px\; overflow-wrap: break-word\; font-family: &quot\;Segoe UI Historic&quot\;\, &quot\;Segoe UI&quot\;\, Helvetica\, Arial\, sans-serif\; color: rgb(5\, 5\, 5)\; font-size: 15px\;"><span style="font-size:16px\;"><span style="font-family:tahoma\;"><span style="color:#666666\;">Our weekly Trivia Nights continue in Mocksville with our regular season theme that&#39\;s been playing everywhere else! Random Letter of the Week! It&#39\;s a category where all the answers start with the same letter! This week\, your Random Letter is D! So all the answers in that round will start with D!</span></span></span></div>\n\n<div class="x11i5rnm xat24cr x1mh8g0r x1vvkbs xtlvy1s" style="margin: 0.5em 0px 0px\; overflow-wrap: break-word\; font-family: &quot\;Segoe UI Historic&quot\;\, &quot\;Segoe UI&quot\;\, Helvetica\, Arial\, sans-serif\; color: rgb(5\, 5\, 5)\; font-size: 15px\;"><span style="font-size:16px\;"><span style="font-family:tahoma\;"><span style="color:#666666\;">Our other themed round this week will be Movies by Character List! For example if I were to say\, Luke\, Han\, Leia\, and Chewbacca\, you&#39\;d have to tell me that the movie is Star Wars!!</span></span></span></div>\n\n<div class="x11i5rnm xat24cr x1mh8g0r x1vvkbs xtlvy1s" style="margin: 0.5em 0px 0px\; overflow-wrap: break-word\; font-family: &quot\;Segoe UI Historic&quot\;\, &quot\;Segoe UI&quot\;\, Helvetica\, Arial\, sans-serif\; color: rgb(5\, 5\, 5)\; font-size: 15px\;"><span style="font-size:16px\;"><span style="font-family:tahoma\;"><span style="color:#666666\;">All our other categories are random\, so any topic is fair game! Plus we will have one Speed Round where we GIVE YOU the answers and you have to pick out the CORRECT ones!!</span></span></span></div>\n\n<div class="x11i5rnm xat24cr x1mh8g0r x1vvkbs xtlvy1s" style="margin: 0.5em 0px 0px\; overflow-wrap: break-word\; font-family: &quot\;Segoe UI Historic&quot\;\, &quot\;Segoe UI&quot\;\, Helvetica\, Arial\, sans-serif\; color: rgb(5\, 5\, 5)\; font-size: 15px\;"><span style="font-size:16px\;"><span style="font-family:tahoma\;"><span style="color:#666666\;">In addition\, we&#39\;ll have some tasty treats available from Snickety Snacks Food Truck! We also have cool refreshing adult beverages (and otherwise) for purchase in our delightful Tap Room and General Store!</span></span></span></div>\n\n<div class="x11i5rnm xat24cr x1mh8g0r x1vvkbs xtlvy1s" style="margin: 0.5em 0px 0px\; overflow-wrap: break-word\; font-family: &quot\;Segoe UI Historic&quot\;\, &quot\;Segoe UI&quot\;\, Helvetica\, Arial\, sans-serif\; color: rgb(5\, 5\, 5)\; font-size: 15px\;"><span style="font-size:16px\;"><span style="font-family:tahoma\;"><span style="color:#666666\;">We hope you and your family can make it out to join us!&nbsp\;</span></span></span></div>\n
LOCATION:The Station
UID:e.2378.23092
SEQUENCE:3
DTSTAMP:20260425T215333Z
URL:https://business.daviechamber.com/events/details/trivia-night-w-snickety-snacks-food-truck-at-the-station-general-store-and-taproom-23092
END:VEVENT

END:VCALENDAR
