BEGIN:VCALENDAR
VERSION:2.0
PRODID:-//ChamberMaster//Event Calendar 2.0//EN
METHOD:PUBLISH
X-PUBLISHED-TTL:P3D
REFRESH-INTERVAL:P3D
CALSCALE:GREGORIAN
BEGIN:VEVENT
DTSTART:20230817T223000Z
DTEND:20230818T003000Z
X-MICROSOFT-CDO-ALLDAYEVENT:FALSE
SUMMARY:Trivia Night w/ Taco El Amigo Food Truck - Letter "R" and Fictional Attorneys
DESCRIPTION:Trivia Night on Thursday\, August 17th one of our two category rounds is Random Letter of the Week: R\, where all your answers in that round have a name or word that begins with "R"! The other is Fictional Attorneys! That is to say lawyers from movies and TV shows!\n\nWe will have our friends Taco El Amigo Food Truck on site that evening serving up delicious hot meals! As always\, we will also have our taproom open with cold beverages and our general store will all our typical treats and sundries available inside!\n\nHope to see you that evening for some Trivia fun!
X-ALT-DESC;FMTTYPE=text/html:<div class="xdj266r x11i5rnm xat24cr x1mh8g0r x1vvkbs" style="margin: 0px\; overflow-wrap: break-word\; font-family: &quot\;Segoe UI Historic&quot\;\, &quot\;Segoe UI&quot\;\, Helvetica\, Arial\, sans-serif\; color: rgb(5\, 5\, 5)\; font-size: 15px\;"><span style="font-size:18px\;"><span style="font-family:tahoma\;"><span style="color:#333333\;">Trivia Night on Thursday\, August 17th one of our two category rounds is Random Letter of the Week: R\, where all your answers in that round have a name or word that begins with &quot\;R&quot\;! The other is Fictional Attorneys! That is to say lawyers from movies and TV shows!</span></span></span></div>\n\n<div class="x11i5rnm xat24cr x1mh8g0r x1vvkbs xtlvy1s" style="margin: 0.5em 0px 0px\; overflow-wrap: break-word\; font-family: &quot\;Segoe UI Historic&quot\;\, &quot\;Segoe UI&quot\;\, Helvetica\, Arial\, sans-serif\; color: rgb(5\, 5\, 5)\; font-size: 15px\;"><span style="font-size:18px\;"><span style="font-family:tahoma\;"><span style="color:#333333\;">We will have our friends Taco El Amigo Food Truck on site that evening serving up delicious hot meals! As always\, we will also have our taproom open with cold beverages and our general store will all our typical treats and sundries available inside!</span></span></span></div>\n\n<div class="x11i5rnm xat24cr x1mh8g0r x1vvkbs xtlvy1s" style="margin: 0.5em 0px 0px\; overflow-wrap: break-word\; font-family: &quot\;Segoe UI Historic&quot\;\, &quot\;Segoe UI&quot\;\, Helvetica\, Arial\, sans-serif\; color: rgb(5\, 5\, 5)\; font-size: 15px\;"><span style="font-size:18px\;"><span style="font-family:tahoma\;"><span style="color:#333333\;">Hope to see you that evening for some Trivia fun!</span></span></span></div>\n
LOCATION:The Station
UID:e.2378.23160
SEQUENCE:3
DTSTAMP:20260425T202052Z
URL:https://business.daviechamber.com/events/details/trivia-night-w-taco-el-amigo-food-truck-letter-r-and-fictional-attorneys-23160
END:VEVENT

END:VCALENDAR
