BEGIN:VCALENDAR
VERSION:2.0
PRODID:-//ChamberMaster//Event Calendar 2.0//EN
METHOD:PUBLISH
X-PUBLISHED-TTL:P3D
REFRESH-INTERVAL:P3D
CALSCALE:GREGORIAN
BEGIN:VEVENT
DTSTART:20230718T223000Z
DTEND:20230719T013000Z
X-MICROSOFT-CDO-ALLDAYEVENT:FALSE
SUMMARY:Trivia on the Deck!
DESCRIPTION:Gather your friends and join us for trivia on the deck starting at 6:30. Prizes given each round and a prize for the overall winning team at the end of the night. Come early to ensure you grab a seat.
X-ALT-DESC;FMTTYPE=text/html:<span style="font-size:18px\;"><span style="color:#666666\;"><span style="font-family:tahoma\;">Gather your friends and join us for trivia on the deck starting at 6:30. Prizes given each round and a prize for the overall winning team at the end of the night. Come early to ensure you grab a seat.</span></span></span>
LOCATION:O'Callahans
UID:e.2378.23082
SEQUENCE:3
DTSTAMP:20260425T214635Z
URL:https://business.daviechamber.com/events/details/trivia-on-the-deck-23082
END:VEVENT

END:VCALENDAR
